BEGIN:VCALENDAR
VERSION:2.0
PRODID:-//NoVA Aggies - ECPv6.15.20//NONSGML v1.0//EN
CALSCALE:GREGORIAN
METHOD:PUBLISH
X-ORIGINAL-URL:https://novaaggies.com
X-WR-CALDESC:Events for NoVA Aggies
REFRESH-INTERVAL;VALUE=DURATION:PT1H
X-Robots-Tag:noindex
X-PUBLISHED-TTL:PT1H
BEGIN:VTIMEZONE
TZID:America/New_York
BEGIN:DAYLIGHT
TZOFFSETFROM:-0500
TZOFFSETTO:-0400
TZNAME:EDT
DTSTART:20250309T070000
END:DAYLIGHT
BEGIN:STANDARD
TZOFFSETFROM:-0400
TZOFFSETTO:-0500
TZNAME:EST
DTSTART:20251102T060000
END:STANDARD
BEGIN:DAYLIGHT
TZOFFSETFROM:-0500
TZOFFSETTO:-0400
TZNAME:EDT
DTSTART:20260308T070000
END:DAYLIGHT
BEGIN:STANDARD
TZOFFSETFROM:-0400
TZOFFSETTO:-0500
TZNAME:EST
DTSTART:20261101T060000
END:STANDARD
BEGIN:DAYLIGHT
TZOFFSETFROM:-0500
TZOFFSETTO:-0400
TZNAME:EDT
DTSTART:20270314T070000
END:DAYLIGHT
BEGIN:STANDARD
TZOFFSETFROM:-0400
TZOFFSETTO:-0500
TZNAME:EST
DTSTART:20271107T060000
END:STANDARD
END:VTIMEZONE
BEGIN:VEVENT
DTSTART;TZID=America/New_York:20260123T170000
DTEND;TZID=America/New_York:20260123T200000
DTSTAMP:20260419T172953
CREATED:20251219T015103Z
LAST-MODIFIED:20251219T050244Z
UID:3366-1769187600-1769198400@novaaggies.com
SUMMARY:NOVA Aggie Express Happy Hour
DESCRIPTION:Hello Aggies!!\n\nThe NOVA Aggie Express Happy Hour is on the move. It has left the Manassas VA Station. Next stop will be Chantilly; VA. Make it a Happy Friday and socialize with your fellow Aggies. Wear your Aggie Gear. We plan to meet on 23 Jan 2025 at 5pm.\nLocation: “SEDONA TAPHOUSE” 4970  Westcroft Blvd.\, Chantilly\, VA 20151\nAggie POC: Len Griffin (703) – 872-9782
URL:https://novaaggies.com/event/nova-aggie-express-happy-hour-2
ATTACH;FMTTYPE=image/png:https://novaaggies.com/wp-content/uploads/2025/12/NCAT-Alumni-Happy-Hour.png
END:VEVENT
END:VCALENDAR