BEGIN:VCALENDAR
VERSION:2.0
PRODID:-//NoVA Aggies - ECPv6.15.20//NONSGML v1.0//EN
CALSCALE:GREGORIAN
METHOD:PUBLISH
X-ORIGINAL-URL:https://novaaggies.com
X-WR-CALDESC:Events for NoVA Aggies
REFRESH-INTERVAL;VALUE=DURATION:PT1H
X-Robots-Tag:noindex
X-PUBLISHED-TTL:PT1H
BEGIN:VTIMEZONE
TZID:America/New_York
BEGIN:DAYLIGHT
TZOFFSETFROM:-0500
TZOFFSETTO:-0400
TZNAME:EDT
DTSTART:20250309T070000
END:DAYLIGHT
BEGIN:STANDARD
TZOFFSETFROM:-0400
TZOFFSETTO:-0500
TZNAME:EST
DTSTART:20251102T060000
END:STANDARD
BEGIN:DAYLIGHT
TZOFFSETFROM:-0500
TZOFFSETTO:-0400
TZNAME:EDT
DTSTART:20260308T070000
END:DAYLIGHT
BEGIN:STANDARD
TZOFFSETFROM:-0400
TZOFFSETTO:-0500
TZNAME:EST
DTSTART:20261101T060000
END:STANDARD
BEGIN:DAYLIGHT
TZOFFSETFROM:-0500
TZOFFSETTO:-0400
TZNAME:EDT
DTSTART:20270314T070000
END:DAYLIGHT
BEGIN:STANDARD
TZOFFSETFROM:-0400
TZOFFSETTO:-0500
TZNAME:EST
DTSTART:20271107T060000
END:STANDARD
END:VTIMEZONE
BEGIN:VEVENT
DTSTART;VALUE=DATE:20260301
DTEND;VALUE=DATE:20260401
DTSTAMP:20260419T211733
CREATED:20251124T015408Z
LAST-MODIFIED:20260302T065539Z
UID:3344-1772323200-1775001599@novaaggies.com
SUMMARY:1891 Founder's Day Fundraiser
DESCRIPTION:In honor of our National Holiday\, \nAggies\, we need you!! Yes You! Donate at least $18.91 (or more) to the Northern Virginia Alumni Chapter of NCA&TSU from March 1\, 2026 – March 31\, 2026. Proceeds will fund a scholarship to a deserving Aggie from within the chapter area. \n[Give Now]
URL:https://novaaggies.com/event/1891-founders-day-fundraiser
ATTACH;FMTTYPE=image/png:https://novaaggies.com/wp-content/uploads/2025/11/IMG_20260225_222630.png
END:VEVENT
BEGIN:VEVENT
DTSTART;VALUE=DATE:20260423
DTEND;VALUE=DATE:20260424
DTSTAMP:20260419T211733
CREATED:20260415T210705Z
LAST-MODIFIED:20260415T210705Z
UID:13390-1776902400-1776988799@novaaggies.com
SUMMARY:Upcoming Community Service Event
DESCRIPTION:Hello Aggies\,\nOur final community service event is scheduled for April 23\, 2026\, at The Aggie Source Food Pantry & Professional Clothing Rack.\nEvent: Monetary donations and contributions of professional attire\nWe hope to donate $1\,000 along with business clothing to support those in need.\nWe are accepting new or gently used professional attire for both men and women. If you would like to donate\, please contact me by April 19\, 2026.\nThank you to everyone who has already contributed—whether through monetary donations or professional attire. Your support is truly appreciated!\nNOVA Alumni Chapter of NC A&T SU\nBeatrice Evans – Community Service Chair\nCommunity Service Committee Meetings:  The Community Service Committee meets via Zoom on the second Monday of each month from 7:00 PM to 7:30 PM\, if required.\n\n\n\nHere are the three easy ways to send money to our chapter:Zelle: novaaggiefunds@gmail.comPayPal:  novaaggiefunds2@gmail.comMail to: NOVA Alumni Chapter of NC A&T SU4222 Fortuna Center Plaza\, Suite #622Dumfries  VA 22025 \nAggie Pride!
URL:https://novaaggies.com/event/upcoming-community-service-event
END:VEVENT
BEGIN:VEVENT
DTSTART;TZID=America/New_York:20260503T140000
DTEND;TZID=America/New_York:20260503T160000
DTSTAMP:20260419T211733
CREATED:20260226T013734Z
LAST-MODIFIED:20260402T182322Z
UID:3600-1777816800-1777824000@novaaggies.com
SUMMARY:NOVA Aggies Bowling Social
DESCRIPTION:We invite Aggie Alumni\, Aggie students\, Aggie families and Aggie friends!!! \nNOVA Aggies Bowling Social \nSunday\, 05/03/2026 (2:00pm) \nBowl America \n13409 Occoquan Road \nWoodbridge VA 22191 \n(If you don’t bowl\, come out anyway and say hello) \nEstimated Cost: \nShoe rental: $6 \nPer game cost: $6 \nHope to see you there!
URL:https://novaaggies.com/event/nova-aggies-bowling-social
ATTACH;FMTTYPE=image/jpeg:https://novaaggies.com/wp-content/uploads/2026/02/Aggie_Bowling_Social_04012026-1.jpg
END:VEVENT
BEGIN:VEVENT
DTSTART;TZID=America/New_York:20260517T130000
DTEND;TZID=America/New_York:20260517T153000
DTSTAMP:20260419T211733
CREATED:20260223T010654Z
LAST-MODIFIED:20260324T032641Z
UID:3577-1779022800-1779031800@novaaggies.com
SUMMARY:End Of Year Celebration
DESCRIPTION:We are excited to invite you to a special end-of-year celebration presenting Scholarship Recipient Awards\, Chapter Awards\, and sending off new Aggies. Buffet will be $55 per person. \nSpecial Guest Speaker – Crystal Williams Boyce\, Associate Vice Chancellor for Alumni Relations\, NCA&TSU. \nLocation: The Harbour Grille\, 13188 Marina Way\, Woodbridge\, VA 22191 \nTime: 1:00 p.m. to 3:30 p.m. \n\n	\n\n		\n		\n		\n\n		\n\n		\n\n\n\n	Tickets\n\n		\n	\n	\n		The numbers below include tickets for this event already in your cart. Clicking "Get Tickets" will allow you to edit any existing attendee information as well as change ticket quantities.	\n\n\n		\n\n	\n		\n				End of Year Celebration Ticket	\n\n\n\n	\n		\n		$55.00			\n\n\n	\n\n\n	Unlimited\n	\n\n\n	\n\n\n	\n						\n	Decrease ticket quantity for End of Year Celebration Ticket\n	-\n				\n\n	\n		Quantity	\n	\n\n					\n	Increase ticket quantity for End of Year Celebration Ticket\n	+\n			\n\n	\n		\n	\n\n\n		\n\n	\n	\n	\n		Quantity:	\n	0\n\n\n	\n	\n		Total:	\n	\n		$0.00	\n\n\n	Get Tickets\n\n		\n				\n	\n\n\n		\n		\n	\n	\n\n	\n	\n\n	\n	\n\n\n\n			\n\n	\n\n\n\n* Please note that NOVA Aggies does not have access to or retain any of your payment methods
URL:https://novaaggies.com/event/end-of-year-celebration
ATTACH;FMTTYPE=image/png:https://novaaggies.com/wp-content/uploads/2026/02/IMG_20260314_164611.png
END:VEVENT
BEGIN:VEVENT
DTSTART;VALUE=DATE:20260611
DTEND;VALUE=DATE:20260616
DTSTAMP:20260419T211733
CREATED:20251124T015638Z
LAST-MODIFIED:20260212T034537Z
UID:3346-1781136000-1781567999@novaaggies.com
SUMMARY:Double Good Popcorn Fundraiser
DESCRIPTION:
URL:https://novaaggies.com/event/double-good-popcorn-fundraiser-2
END:VEVENT
END:VCALENDAR