BEGIN:VCALENDAR
VERSION:2.0
PRODID:-//NoVA Aggies - ECPv6.15.20//NONSGML v1.0//EN
CALSCALE:GREGORIAN
METHOD:PUBLISH
X-WR-CALNAME:NoVA Aggies
X-ORIGINAL-URL:https://novaaggies.com
X-WR-CALDESC:Events for NoVA Aggies
REFRESH-INTERVAL;VALUE=DURATION:PT1H
X-Robots-Tag:noindex
X-PUBLISHED-TTL:PT1H
BEGIN:VTIMEZONE
TZID:America/New_York
BEGIN:DAYLIGHT
TZOFFSETFROM:-0500
TZOFFSETTO:-0400
TZNAME:EDT
DTSTART:20210314T070000
END:DAYLIGHT
BEGIN:STANDARD
TZOFFSETFROM:-0400
TZOFFSETTO:-0500
TZNAME:EST
DTSTART:20211107T060000
END:STANDARD
BEGIN:DAYLIGHT
TZOFFSETFROM:-0500
TZOFFSETTO:-0400
TZNAME:EDT
DTSTART:20220313T070000
END:DAYLIGHT
BEGIN:STANDARD
TZOFFSETFROM:-0400
TZOFFSETTO:-0500
TZNAME:EST
DTSTART:20221106T060000
END:STANDARD
BEGIN:DAYLIGHT
TZOFFSETFROM:-0500
TZOFFSETTO:-0400
TZNAME:EDT
DTSTART:20230312T070000
END:DAYLIGHT
BEGIN:STANDARD
TZOFFSETFROM:-0400
TZOFFSETTO:-0500
TZNAME:EST
DTSTART:20231105T060000
END:STANDARD
BEGIN:DAYLIGHT
TZOFFSETFROM:-0500
TZOFFSETTO:-0400
TZNAME:EDT
DTSTART:20240310T070000
END:DAYLIGHT
BEGIN:STANDARD
TZOFFSETFROM:-0400
TZOFFSETTO:-0500
TZNAME:EST
DTSTART:20241103T060000
END:STANDARD
BEGIN:DAYLIGHT
TZOFFSETFROM:-0500
TZOFFSETTO:-0400
TZNAME:EDT
DTSTART:20250309T070000
END:DAYLIGHT
BEGIN:STANDARD
TZOFFSETFROM:-0400
TZOFFSETTO:-0500
TZNAME:EST
DTSTART:20251102T060000
END:STANDARD
BEGIN:DAYLIGHT
TZOFFSETFROM:-0500
TZOFFSETTO:-0400
TZNAME:EDT
DTSTART:20260308T070000
END:DAYLIGHT
BEGIN:STANDARD
TZOFFSETFROM:-0400
TZOFFSETTO:-0500
TZNAME:EST
DTSTART:20261101T060000
END:STANDARD
BEGIN:DAYLIGHT
TZOFFSETFROM:-0500
TZOFFSETTO:-0400
TZNAME:EDT
DTSTART:20270314T070000
END:DAYLIGHT
BEGIN:STANDARD
TZOFFSETFROM:-0400
TZOFFSETTO:-0500
TZNAME:EST
DTSTART:20271107T060000
END:STANDARD
END:VTIMEZONE
BEGIN:VEVENT
DTSTART;TZID=America/New_York:20260320T170000
DTEND;TZID=America/New_York:20260320T200000
DTSTAMP:20260419T194454
CREATED:20260226T012207Z
LAST-MODIFIED:20260319T204235Z
UID:3596-1774026000-1774036800@novaaggies.com
SUMMARY:NOVA Aggie Express Happy Hour
DESCRIPTION:Hello Aggies!!\n\nThe NOVA Aggie Express Happy Hour is on the move. It has left the Chantilly VA Station. Next stop will be Fredericksburg; VA. Make it a Happy Friday and socialize with your fellow Aggies. Wear your Aggie Gear. We plan to meet on 20 Mar 2026 at 5pm.\nLocation: “Orleans Bistro & Grill” 5442 Southpoint Plaza Way\, Fredericksburg\, VA 22407\n***Orleans After Dark DJ 8:00 p.m.***\n\nAggie POC: Len Griffin (703) 872-9782
URL:https://novaaggies.com/event/nova-aggie-express-happy-hour-3
ATTACH;FMTTYPE=image/png:https://novaaggies.com/wp-content/uploads/2026/02/NCAT-Alumni-Happy-Hour-1-1.png
END:VEVENT
BEGIN:VEVENT
DTSTART;TZID=America/New_York:20260313T160000
DTEND;TZID=America/New_York:20260313T200000
DTSTAMP:20260419T194454
CREATED:20260131T205702Z
LAST-MODIFIED:20260309T030131Z
UID:3439-1773417600-1773432000@novaaggies.com
SUMMARY:Wine & Food Festival Fundraiser
DESCRIPTION:Hello Aggies!! \nCome quench your thirst sampling a variety of wines and curb your appetite with many food stations at Quantico 16th Annual International Wine & Food Festival. \nLocation: The Clubs at Quantico\, Quantico VA \nFriday\, March 13th from 4pm to 8pm EDT \nPOC: Virous McKenzie – (540) 845 – 2876 \nPayment due by March 11th @ Noon \n\n	\n\n		\n		\n		\n\n		\n\n		\n\n\n\n	Tickets\n\n		\n	\n	\n		The numbers below include tickets for this event already in your cart. Clicking "Get Tickets" will allow you to edit any existing attendee information as well as change ticket quantities.	\n\n\n		\n		\n		\n	\n		Tickets are no longer available	\n\n\n		\n	\n	\n\n	\n	\n\n	\n	\n\n\n\n			\n\n	\n\n\n\n* Please note that NOVA Aggies does not have access to or retain any of your payment methods
URL:https://novaaggies.com/event/wine-food-festival-fundraiser
LOCATION:The Clubs at Quantico\, 3017 Russell Rd\, Quantico\, VA\, 22134\, United States
ATTACH;FMTTYPE=image/png:https://novaaggies.com/wp-content/uploads/2026/01/wine.png
END:VEVENT
BEGIN:VEVENT
DTSTART;TZID=America/New_York:20260309T130000
DTEND;TZID=America/New_York:20260309T131500
DTSTAMP:20260419T194454
CREATED:20260214T231228Z
LAST-MODIFIED:20260214T231418Z
UID:3567-1773061200-1773062100@novaaggies.com
SUMMARY:Community Service Event: Support Our Aggies
DESCRIPTION:Hello Aggies!!\n\nJoin us in supporting The Aggie Source Food Pantry with a monetary donation drive on Monday\, March 9\, 2026\, from 1:00–1:15 p.m. at 205 Nocho Street\, Greensboro\, NC.\nThe pantry provides food and essential supplies to Aggie students facing food insecurity. Your donation helps ensure no Aggie goes hungry.\nEvery contribution makes a difference!\n\nWhy It Matters:  The Aggie Food Pantry provides food and essential supplies to current Aggie students facing food insecurity.  Your donation helps ensure no Aggie goes hungry.  Every contribution makes a difference!
URL:https://novaaggies.com/event/community-service-event-support-our-aggies
END:VEVENT
BEGIN:VEVENT
DTSTART;TZID=America/New_York:20260226T190000
DTEND;TZID=America/New_York:20260226T203000
DTSTAMP:20260419T194454
CREATED:20251109T173330Z
LAST-MODIFIED:20260223T223314Z
UID:3250-1772132400-1772137800@novaaggies.com
SUMMARY:Black History Trivia Night
DESCRIPTION:The NOVA Alumni Chapter of NC A&T State University will host a Black History Trivia Night Fundraiser on the Zoom platform \n\n	\n\n		\n		\n		\n\n		\n\n		\n\n\n\n	Tickets\n\n		\n	\n	\n		The numbers below include tickets for this event already in your cart. Clicking "Get Tickets" will allow you to edit any existing attendee information as well as change ticket quantities.	\n\n\n		\n		\n		\n	\n		Tickets are no longer available	\n\n\n		\n	\n	\n\n	\n	\n\n	\n	\n\n\n\n			\n\n	\n\n\n\n* Please note that NOVA Aggies does not have access to or retain any of your payment methods
URL:https://novaaggies.com/event/black-history-trivia-night
ATTACH;FMTTYPE=image/png:https://novaaggies.com/wp-content/uploads/2025/11/Black-History-Trivia-2026.png
END:VEVENT
BEGIN:VEVENT
DTSTART;TZID=America/New_York:20260123T170000
DTEND;TZID=America/New_York:20260123T200000
DTSTAMP:20260419T194454
CREATED:20251219T015103Z
LAST-MODIFIED:20251219T050244Z
UID:3366-1769187600-1769198400@novaaggies.com
SUMMARY:NOVA Aggie Express Happy Hour
DESCRIPTION:Hello Aggies!!\n\nThe NOVA Aggie Express Happy Hour is on the move. It has left the Manassas VA Station. Next stop will be Chantilly; VA. Make it a Happy Friday and socialize with your fellow Aggies. Wear your Aggie Gear. We plan to meet on 23 Jan 2025 at 5pm.\nLocation: “SEDONA TAPHOUSE” 4970  Westcroft Blvd.\, Chantilly\, VA 20151\nAggie POC: Len Griffin (703) – 872-9782
URL:https://novaaggies.com/event/nova-aggie-express-happy-hour-2
ATTACH;FMTTYPE=image/png:https://novaaggies.com/wp-content/uploads/2025/12/NCAT-Alumni-Happy-Hour.png
END:VEVENT
BEGIN:VEVENT
DTSTART;TZID=America/New_York:20251230T130000
DTEND;TZID=America/New_York:20251230T150000
DTSTAMP:20260419T194454
CREATED:20251207T204725Z
LAST-MODIFIED:20251207T204725Z
UID:3363-1767099600-1767106800@novaaggies.com
SUMMARY:Holiday Bowling Social
DESCRIPTION:We invite Aggie Alumni\, Aggie students\, Aggie families and Aggie friends!!! \nHoliday Bowling Social \nTuesday\, 12/30/2025 (1:00pm) \nBowl America \n13409 Occoquan Road \nWoodbridge VA 22191 \n(If you don’t bowl\, come out anyway and say hello) \nEstimated Cost: \nShoe rental: $6 \nPer game cost: $5 \nHope to see you there!
URL:https://novaaggies.com/event/holiday-bowling-social
END:VEVENT
BEGIN:VEVENT
DTSTART;TZID=America/New_York:20251221T110000
DTEND;TZID=America/New_York:20251221T123000
DTSTAMP:20260419T194454
CREATED:20251205T013129Z
LAST-MODIFIED:20251205T014059Z
UID:3359-1766314800-1766320200@novaaggies.com
SUMMARY:First Mount Zion Baptist Church for Sunday fellowship
DESCRIPTION:In addition\, we will join First Mount Zion Baptist Church for Sunday fellowship the following day.\n Fellowship Service (Attire:  Aggie Paraphernalia)\nSunday\, December 21\, 2025\n 11:00 AM\n Location: 16622 Dumfries Road\, Dumfries\, VA\nDuring the service\, we will present a monetary donation to the FMZBC SHARE Ministry as a token of our appreciation and support for the meaningful work they continue to do in our community.\nWe look forward to serving and fellowshipping together!
URL:https://novaaggies.com/event/first-mount-zion-baptist-church-for-sunday-fellowship
ATTACH;FMTTYPE=image/jpeg:https://novaaggies.com/wp-content/uploads/2025/11/CS-FFMZBC-Dec-2025.jpg
END:VEVENT
BEGIN:VEVENT
DTSTART;TZID=America/New_York:20251220T070000
DTEND;TZID=America/New_York:20251220T110000
DTSTAMP:20260419T194454
CREATED:20251109T163923Z
LAST-MODIFIED:20251205T013812Z
UID:3245-1766214000-1766228400@novaaggies.com
SUMMARY:Holiday Community Service Event
DESCRIPTION:Greeting Aggies\,\nI hope you all enjoyed a wonderful Thanksgiving with your family and friends!  As we continue in the spirit of gratitude and giving\, we are excited to partner with the First Mount Zion Baptist Church SHARE Ministry for our upcoming Community Service event.\n Community Service\nSaturday\, December 20\, 2025\n 7:00 AM – 11:00 AM\n Location: 16622 Dumfries Road\, Dumfries\, VA\n Partner: First Mount Zion Baptist Church SHARE Ministry\nIf you would like to contribute\, please send donations to our chapter Zelle (novaaggiefunds@gmail.com) and/or PayPal (novaaggiefunds2@gmail.com) account.
URL:https://novaaggies.com/event/holiday-community-service-event
ATTACH;FMTTYPE=image/jpeg:https://novaaggies.com/wp-content/uploads/2025/11/CS-FFMZBC-Dec-2025.jpg
END:VEVENT
BEGIN:VEVENT
DTSTART;TZID=America/New_York:20251206T180000
DTEND;TZID=America/New_York:20251206T220000
DTSTAMP:20260419T194454
CREATED:20250925T213623Z
LAST-MODIFIED:20251118T021508Z
UID:3112-1765044000-1765058400@novaaggies.com
SUMMARY:NOVA Aggies Holiday Party!!!
DESCRIPTION:Come celebrate the holidays with the Aggies!! \nThe NOVA Alumni Chapter is planning A Night with the NOVA Aggies. Dancing through the Decades. \nDecember 6\, 2025 – 6:00pm to 10:00pm \nClubs At Quantico \n3017 Russell Rd\, Quantico\, VA 22134 \nPOC: Virous McKenzie \nCell: (540) – 845-2876 \nEmail: vimckenzie@hotmail.com \n\n	\n\n		\n		\n		\n\n		\n\n		\n\n\n\n	Tickets\n\n		\n	\n	\n		The numbers below include tickets for this event already in your cart. Clicking "Get Tickets" will allow you to edit any existing attendee information as well as change ticket quantities.	\n\n\n		\n		\n		\n	\n		Tickets are no longer available	\n\n\n		\n	\n	\n\n	\n	\n\n	\n	\n\n\n\n			\n\n	\n\n\n\nVery Important. Read the following:\n\n\nQuantico Base Access – 14 days in advance to get your victors pass\n\n\nVisitor Center M-F (6 AM- 3 PM) and Sat (7:30 AM- 11:30 AM)\n\n\nBase Number. 703-784-3023/3024\n\n\n* Please note that NOVA Aggies does not have access to or retain any of your payment methods
URL:https://novaaggies.com/event/nova-aggies-holiday-party
LOCATION:The Clubs at Quantico\, 3017 Russell Rd\, Quantico\, VA\, 22134\, United States
ATTACH;FMTTYPE=image/jpeg:https://novaaggies.com/wp-content/uploads/2025/09/Dark-Blue-and-Gold-Illustrative-Festive-Merry-Christmas-Eve-Party-Winter-Season-Holiday-Invitation-Flyer.jpg-1-scaled.jpg
END:VEVENT
BEGIN:VEVENT
DTSTART;TZID=America/New_York:20251129T090000
DTEND;TZID=America/New_York:20251129T113000
DTSTAMP:20260419T194454
CREATED:20251124T021438Z
LAST-MODIFIED:20251124T021438Z
UID:3348-1764406800-1764415800@novaaggies.com
SUMMARY:Come Hike With The Aggies
DESCRIPTION:Aggie Hike Presents \nA Turkey Trot \nCome get your steps in right after Thanksgiving with the Aggies!!! \nDress warmly and wear your A&T workout gear. \nAnacostia Park \n1900 Anacostia Drive SE \nWashington\, DC 20020 \nContact Charnita Robinson with any questions 301-502-5317
URL:https://novaaggies.com/event/come-hike-with-the-aggies-2
ATTACH;FMTTYPE=image/jpeg:https://novaaggies.com/wp-content/uploads/2025/11/IMG-20251116-WA0000.jpg
END:VEVENT
BEGIN:VEVENT
DTSTART;TZID=America/New_York:20251122T073000
DTEND;TZID=America/New_York:20251122T113000
DTSTAMP:20260419T194454
CREATED:20250925T215802Z
LAST-MODIFIED:20251020T001707Z
UID:3115-1763796600-1763811000@novaaggies.com
SUMMARY:Thanksgiving Community Service Event
DESCRIPTION:Come join the Aggies for a Thanksgiving Community Service Event. \nIn partnership with Northern Virginia Give Back \nThanksgiving Food Distribution Service Activity Partnership with the DC Alumni Chapter of NCA&TSU \nVolunteer as Food Box Assemblers \nEstimated Costs: $0.00 \nLocation: Hayfield Secondary School – Telegraph Road\, Alexandria\, VA 22315 \nDate and Time: Saturday\, 22 Nov from 7:30am to ~11:30am
URL:https://novaaggies.com/event/thanksgiving-community-service-event
END:VEVENT
BEGIN:VEVENT
DTSTART;TZID=America/New_York:20251115T083000
DTEND;TZID=America/New_York:20251115T160000
DTSTAMP:20260419T194454
CREATED:20251022T234404Z
LAST-MODIFIED:20251022T235936Z
UID:3165-1763195400-1763222400@novaaggies.com
SUMMARY:Annual HBCU Festival 2025
DESCRIPTION:Calling 9th – 12th Graders \nAlfred Street Baptist Church HBCU Recruitment Festival \nThe St. James \n6805 Industrial Road\, Springfield\, VA 22151 \nFriday\, Nov. 14\, 2025 – Virtual 4pm – 8pm \nSaturday\, Nov. 15\, 2025 – Hybrid 8:30am – 4pm \nRegistration is OPEN NOW!!! \nRegister Here \nhttps://hbcufest.alfredstreet.org/e/u/checkout/23rdannualalfredstreetbaptistchurchhbcufest/tickets/order
URL:https://novaaggies.com/event/annual-hbcu-festival-2025
LOCATION:The St. James
ATTACH;FMTTYPE=image/jpeg:https://novaaggies.com/wp-content/uploads/2025/10/IMG_4617-scaled.jpg
END:VEVENT
BEGIN:VEVENT
DTSTART;TZID=America/New_York:20251107T170000
DTEND;TZID=America/New_York:20251107T200000
DTSTAMP:20260419T194454
CREATED:20251028T030750Z
LAST-MODIFIED:20251028T030750Z
UID:3180-1762534800-1762545600@novaaggies.com
SUMMARY:NOVA Aggie Express Happy Hour
DESCRIPTION:Hello Aggies!!\n\nThe NOVA Aggie Express Happy Hour is on the move. It has left the Woodbridge Station. Next stop will be Manassas\,VA. Make it a Happy Friday and socialize with your fellow Aggies. Wear your Aggie Gear. We plan to meet on 07 Nov 2025 at 5pm.\nLocation: “2 Silos Brewery Co.” 9925 Discovery Blvd.\, Manassas\, VA.\nAggie POC: Len Griffin (703) – 872-9782
URL:https://novaaggies.com/event/nova-aggie-express-happy-hour
ATTACH;FMTTYPE=image/png:https://novaaggies.com/wp-content/uploads/2025/10/IMG_20251026_211957.png
END:VEVENT
BEGIN:VEVENT
DTSTART;TZID=America/New_York:20250928T170000
DTEND;TZID=America/New_York:20250928T203000
DTSTAMP:20260419T194454
CREATED:20250924T023121Z
LAST-MODIFIED:20250924T023121Z
UID:3104-1759078800-1759091400@novaaggies.com
SUMMARY:Capitol Battle Of The Bands
DESCRIPTION:Come watch A&T’s very own Blue & Gold Marching Machine!! \n(SECU Stadium – University Of Maryland) \nComing fresh off their performance at the Sunday Night Football game at NY Giants Stadium \nOther marching bands expected to perform: \nBowie State University \nHoward University \nHampton University \nMorgan State University \nNorfolk State University \nNorth Carolina Central University \nVirginia State University \nWinston-Salem State University \nTicket and information:    capitolbotb.com
URL:https://novaaggies.com/event/capitol-battle-of-the-bands
LOCATION:SECU Stadium\, University Of Maryland\, MD\, United States
ATTACH;FMTTYPE=image/jpeg:https://novaaggies.com/wp-content/uploads/2025/09/FB_IMG_1758390252521.jpg
END:VEVENT
BEGIN:VEVENT
DTSTART;TZID=America/New_York:20250927T090000
DTEND;TZID=America/New_York:20250927T120000
DTSTAMP:20260419T194454
CREATED:20250924T021129Z
LAST-MODIFIED:20250924T021129Z
UID:3098-1758963600-1758974400@novaaggies.com
SUMMARY:Come Hike With The Aggies
DESCRIPTION:Aggie Hike Presents \nUrban Hiking. \nCome get your steps in with the Aggies!!! \nWear your A&T workout gear. \nJones Point Park \n100 Jones Point Drive \nAlexandria\, VA 23242
URL:https://novaaggies.com/event/come-hike-with-the-aggies
LOCATION:Jones Point Park\, 100 Jones Point Drive\, Alexandria\, VA\, 23242\, United States
ATTACH;FMTTYPE=image/jpeg:https://novaaggies.com/wp-content/uploads/2025/09/FB_IMG_1758390275098.jpg
END:VEVENT
BEGIN:VEVENT
DTSTART;TZID=America/New_York:20250926T170000
DTEND;TZID=America/New_York:20250926T200000
DTSTAMP:20260419T194454
CREATED:20250923T022856Z
LAST-MODIFIED:20250923T022856Z
UID:3091-1758906000-1758916800@novaaggies.com
SUMMARY:NOVA Alumni Happy Hour
DESCRIPTION:Northern Virginia Aggies!!! \nLet’s Socialize!! \nMeet New Aggies!! \nShow Your Aggie Pride!! \nWear Your Aggie Gear!! \nConnect With Aggie Alumni!!! \nBahama Breeze (Woodbridge\, VA) \n2714 Potomac Mills Cir. \nStarts at 5:00pm \n 
URL:https://novaaggies.com/event/nova-alumni-happy-hour
LOCATION:Bahama Breeze\, 2714 Potomac Mills Cir.\, Woodbridge\, VA\, 22192\, United States
ATTACH;FMTTYPE=image/jpeg:https://novaaggies.com/wp-content/uploads/2025/09/IMG_20250908_220343-1-scaled.jpg
END:VEVENT
BEGIN:VEVENT
DTSTART;TZID=America/New_York:20250608T130000
DTEND;TZID=America/New_York:20250608T153000
DTSTAMP:20260419T194454
CREATED:20250427T165223Z
LAST-MODIFIED:20250427T165223Z
UID:3054-1749387600-1749396600@novaaggies.com
SUMMARY:End Of The Year Celebration
DESCRIPTION:Hello Aggies and Friends\, \nCome join the NOVA Alumni Chapter  for our End Of The Year Celebration. You will meet some of our new Aggies from the Northern Virginia area and show them what Aggie Pride is all about. Come congratulate our Scholarship recipients for the 2025 – 26 school year. Find out which of our members will win the Super Nova Award for 2024 -25. \nThe Harbour Grille \nBuffet: $55 per person (Includes coffee\, tea\, & soft drinks) Deadline May 1\, 2025 \nMake Payment: \nZelle: novaaggiefunds@gmail.com \nPayPal: novaaggiefunds2@gmail.com \nLooking forward to seeing you in your Blue & Gold!! \nAggie Pride!!
URL:https://novaaggies.com/event/end-of-the-year-celebration
LOCATION:The Harbour Grille\, 13188 Marina Way\, Woodbridge\, Virginia\, 22191
END:VEVENT
BEGIN:VEVENT
DTSTART;TZID=America/New_York:20250413T133000
DTEND;TZID=America/New_York:20250413T160000
DTSTAMP:20260419T194454
CREATED:20250401T022912Z
LAST-MODIFIED:20250401T023344Z
UID:3032-1744551000-1744560000@novaaggies.com
SUMMARY:Bowling With NOVA Aggies!!
DESCRIPTION:Hello Aggies!!!\n\nIt’s that time again. Come out\, bring your family\, friends\, and other AGGIES\, and let’s BOWL. You don’t bowl? Come out anyway and socialize wearing your Blue & Gold. You know how we do.\n\nSunday\, 4/13/2025\, 1:30pm.\nBowl America\n13409 Occoquan Road\nWoodbridge\, VA 22191\n$5.99 per game\n$5.99 shoe rental per person\n\nPOC: Len Griffin 703-872-9782
URL:https://novaaggies.com/event/bowling-with-nova-aggies
ATTACH;FMTTYPE=image/jpeg:https://novaaggies.com/wp-content/uploads/2025/03/487296623_10162344189518399_378276401630003467_n.jpg
END:VEVENT
BEGIN:VEVENT
DTSTART;TZID=America/New_York:20250405T100000
DTEND;TZID=America/New_York:20250405T114500
DTSTAMP:20260419T194454
CREATED:20250405T033910Z
LAST-MODIFIED:20250405T033910Z
UID:3043-1743847200-1743853500@novaaggies.com
SUMMARY:ACTION In Community Through Service (ACTS)
DESCRIPTION:Event:  Aggie Day of Service Food Drive (Contributions are tax-deductible) \n  \nItems requested:  Plastic grocery bags\, canned peas\, canned fruit\, pasta sauce\, Knorr sides (rice/pasta)\, beans (dry/canned)\, mac and cheese\, spaghetti sauce\, spaghetti pasta\, dry grated parmesan cheese\, peanut butter\, jelly\, soup\, sugar\, tea bags\, coffee (ground\, instant\, pods) and coffee creamer.  “No GLASS containers” \n  \nDrop Off Location:  17866 Main Street\, Dumfries\, VA  22026   \n                                               \nDate:  April 5th\, 2025 (10am-11:45am) \nEstimated costs: $500
URL:https://novaaggies.com/event/action-in-community-through-service-acts
END:VEVENT
BEGIN:VEVENT
DTSTART;TZID=America/New_York:20250208T190000
DTEND;TZID=America/New_York:20250208T220000
DTSTAMP:20260419T194454
CREATED:20250112T012113Z
LAST-MODIFIED:20250112T013047Z
UID:2980-1739041200-1739052000@novaaggies.com
SUMMARY:HBCU Night
DESCRIPTION:Come celebrate Black History Month with us. HBCU Night with the Washington Wizards. Living the Suite Life.  Saturday February 08\, 2025\, 7pm vs Atlanta Hawks.  Cost is $225 per ticket. Food and Drink will be included. Tickets are limited. \nPayment Methods – \nPayPal: novaaggiefunds2@gmail.com OR\nZelle: novaaggiefunds@gmail.com
URL:https://novaaggies.com/event/hbcu-night
LOCATION:Capital One Arena\, 601 F St NW\, Washington\, DC\, 20004\, United States
END:VEVENT
BEGIN:VEVENT
DTSTART;TZID=America/New_York:20241207T180000
DTEND;TZID=America/New_York:20241207T220000
DTSTAMP:20260419T194454
CREATED:20241123T024510Z
LAST-MODIFIED:20241123T024510Z
UID:2967-1733594400-1733608800@novaaggies.com
SUMMARY:NOVA Aggies 2nd Annual Christmas Sneaker Ball
DESCRIPTION:
URL:https://novaaggies.com/event/nova-aggies-2nd-annual-christmas-sneaker-ball
LOCATION:The Clubs at Quantico\, 3017 Russell Rd\, Quantico\, VA\, 22134\, United States
END:VEVENT
BEGIN:VEVENT
DTSTART;VALUE=DATE:20241014
DTEND;VALUE=DATE:20241021
DTSTAMP:20260419T194454
CREATED:20240721T071310Z
LAST-MODIFIED:20240721T071310Z
UID:2913-1728864000-1729468799@novaaggies.com
SUMMARY:Homecoming Week
DESCRIPTION:
URL:https://novaaggies.com/event/homecoming-week
END:VEVENT
BEGIN:VEVENT
DTSTART;TZID=America/New_York:20240907T170000
DTEND;TZID=America/New_York:20240907T210000
DTSTAMP:20260419T194454
CREATED:20240716T070002Z
LAST-MODIFIED:20240721T070518Z
UID:2909-1725728400-1725742800@novaaggies.com
SUMMARY:An Evening with Jeffrey Corry
DESCRIPTION:A Chronic Kidney Disease Awareness Benefit Concert \nGuest MC – Apostle Shaun Johnson \nAll proceeds will be donated to the National Chronic Kidney Disease Foundation in support of Jeffrey to receive a new living transplant.
URL:https://novaaggies.com/event/an-evening-with-jeffrey-corry
LOCATION:Pennsylvania Avenue Baptist Church\, 3000 Pennsylvania Avenue\, SE\, Washington\, DC\, 20020
ORGANIZER;CN="Jeffrey Corry":MAILTO:corryjeff@gmail.com
END:VEVENT
BEGIN:VEVENT
DTSTART;TZID=America/New_York:20240822T120000
DTEND;TZID=America/New_York:20240826T120000
DTSTAMP:20260419T194454
CREATED:20240711T061000Z
LAST-MODIFIED:20240721T062625Z
UID:2890-1724328000-1724673600@novaaggies.com
SUMMARY:Double Good Popcorn Fundraiser
DESCRIPTION:Hosted by: You/We/Us – members of The NOVA alumni chapter of NCA&TSU \nTo help raise money for the chapter\, we are selling delicious popcorn.
URL:https://novaaggies.com/event/double-good-popcorn-fundraiser
END:VEVENT
BEGIN:VEVENT
DTSTART;TZID=America/New_York:20240731T180000
DTEND;TZID=America/New_York:20240731T200000
DTSTAMP:20260419T194454
CREATED:20240726T005208Z
LAST-MODIFIED:20240726T005208Z
UID:2917-1722448800-1722456000@novaaggies.com
SUMMARY:Peace! Love! and Skating with the AGGIES!
DESCRIPTION:Engage with current students before they embark on the next phase of their A&T experience!\n\n\nCavalier Family Skating Center\n1924 Richmond Highway\nStafford\, VA\n\n$1.00 admission fee\n$4.00 for skate rentals\n\nPOC – Timothy Hicks\ntth1911@yahoo.com\n\nWear AGGIE paraphernalia!\nBring your family/friends too!
URL:https://novaaggies.com/event/peace-love-and-skating-with-the-aggies
LOCATION:Cavalier Family Skating Center\, 1924 Richmond Highway\, Stafford\, VA
ORGANIZER;CN="Timothy Hicks":MAILTO:tth1911@yahoo.com
END:VEVENT
BEGIN:VEVENT
DTSTART;TZID=America/New_York:20240620T190000
DTEND;TZID=America/New_York:20240620T210000
DTSTAMP:20260419T194454
CREATED:20240612T064803Z
LAST-MODIFIED:20240721T064822Z
UID:2906-1718910000-1718917200@novaaggies.com
SUMMARY:General Body Meeting
DESCRIPTION:Calling all Aggies! \nPlease attend our upcoming June virtual chapter meeting! \nMeeting Details: \nTime: 7pm \nDate: 20 June 2024 (Thursday) \nLocation: Zoom (below) \nIf there are any questions or concerns\, please send us an email via novaaggies@gmail.com. \nZoom: \nJoin Zoom Meeting \nhttps://us02web.zoom.us/j/85891209244?pwd=ZjZNdDhEOUQxVzJDdnNoK0FVQlorQT09 \nMeeting ID: 858 9120 9244 \nPasscode: 216338 \nOne tap mobile \n+16465588656\,\,85891209244#\,\,\,\,*216338# US (New York) \n+13017158592\,\,85891209244#\,\,\,\,*216338# US (Washington DC) \nDial by your location \n        +1 646 558 8656 US (New York) \n        +1 301 715 8592 US (Washington DC) \n        +1 312 626 6799 US (Chicago) \n        +1 669 900 9128 US (San Jose) \n        +1 253 215 8782 US (Tacoma) \n        +1 346 248 7799 US (Houston) \nMeeting ID: 858 9120 9244 \nPasscode: 216338 \nFind your local number: https://us02web.zoom.us/u/kdGHubTj4K
URL:https://novaaggies.com/event/general-body-meeting
END:VEVENT
BEGIN:VEVENT
DTSTART;TZID=America/New_York:20240615T100000
DTEND;TZID=America/New_York:20240615T120000
DTSTAMP:20260419T194454
CREATED:20240612T062350Z
LAST-MODIFIED:20240721T062434Z
UID:2894-1718445600-1718452800@novaaggies.com
SUMMARY:Themed Food Drive
DESCRIPTION:Items Requested: \n\nSpaghetti Night Kits\nBreakfast for Dinner Kits\nTaco Night Kits
URL:https://novaaggies.com/event/themed-food-drive
LOCATION:ACTS Homeless Shelter\, 17866 Main St\, Dumfries\, VA\, 22026
END:VEVENT
BEGIN:VEVENT
DTSTART;TZID=America/New_York:20221119T080000
DTEND;TZID=America/New_York:20221119T120000
DTSTAMP:20260419T194454
CREATED:20221021T050508Z
LAST-MODIFIED:20240721T061320Z
UID:2627-1668844800-1668859200@novaaggies.com
SUMMARY:NOVA Alumni Chapter 2nd Quarter Community Service Project
DESCRIPTION:NOVA Alumni Chapter 2nd Quarter Community Service Project \nPartnership w/First Mount Zion Baptist Church SHARE Program  \n  \nEvent: Food donations\, sorting and packing items for families in need in our community \nExample of food items in value package: \n\nHam\nTurkey\nFresh Fruits\nVegetables\n\nMasks and Covid-19 vaccination required for all volunteers sorting and packing food items!! \nTo support this event\, please provide Cash Donations by November 15\, 2022 via Zelle (novaaggiefunds@gmail.com)  \nor PayPal (novaaggiefunds2@gmail.com
URL:https://novaaggies.com/event/nova-alumni-chapter-2nd-quarter-community-service-project
LOCATION:First Mount Zion Baptist Church Gymnasium\, 16622 Dumfries Road\, Dumfries Road\, VA\, 22025
ATTACH;FMTTYPE=image/png:https://novaaggies.com/wp-content/uploads/2022/10/thanksgiving.png
END:VEVENT
BEGIN:VEVENT
DTSTART;TZID=America/New_York:20220520T190000
DTEND;TZID=America/New_York:20220520T210000
DTSTAMP:20260419T194454
CREATED:20221020T224446Z
LAST-MODIFIED:20240721T061442Z
UID:2475-1653073200-1653080400@novaaggies.com
SUMMARY:Sipping Liquid Gold
DESCRIPTION:Join the Northern Virginia (NoVA) Alumni Chapter of North Carolina A&T State University for a fun and educational night while sipping “liquid gold.” Attendees can participate in a historical presentation of Uncle Nearest and learn about whiskey while enjoying a tasting sample. Participants will receive an Uncle Nearest swag box and enjoy music by DJ Flashback. \nSwag Box Distribution: Swag boxes will be available for pick-up at a place TBD in Northern Virginia on May 14 and May 15. Ticketed attendees will be notified with pick-up details\, including locations and times. Boxes cannot be shipped to participants. \n$25/person by May 1\, 2022 \nProceeds of the event will benefit the NoVA Alumni Chapter of NC A&T SU scholarship fund. \n 
URL:https://novaaggies.com/event/sipping-liquid-gold
END:VEVENT
BEGIN:VEVENT
DTSTART;VALUE=DATE:20220502
DTEND;VALUE=DATE:20220509
DTSTAMP:20260419T194454
CREATED:20221020T225706Z
LAST-MODIFIED:20240721T061411Z
UID:2486-1651449600-1652054399@novaaggies.com
SUMMARY:Wellness Week 2022
DESCRIPTION:During the past two years\, we have all learned that Health is Wealth!  \n\n\nThe NoVA Alumni Chapter of NC A&T SU is dedicated to helping all Aggies to live their best life by promoting optimal overall wellness in mind\, body\, finances and spirit. You’re invited to our first annual Aggie Wellness Week.  The Hospitality and Benevolence committee in partnership with the Social Events committee has planned a full week of exciting\, virtual events that are free and open to all.
URL:https://novaaggies.com/event/wellness-week-2022
CATEGORIES:HEALTH
END:VEVENT
END:VCALENDAR