BEGIN:VCALENDAR
VERSION:2.0
PRODID:-//NoVA Aggies - ECPv6.15.20//NONSGML v1.0//EN
CALSCALE:GREGORIAN
METHOD:PUBLISH
X-WR-CALNAME:NoVA Aggies
X-ORIGINAL-URL:https://novaaggies.com
X-WR-CALDESC:Events for NoVA Aggies
REFRESH-INTERVAL;VALUE=DURATION:PT1H
X-Robots-Tag:noindex
X-PUBLISHED-TTL:PT1H
BEGIN:VTIMEZONE
TZID:America/New_York
BEGIN:DAYLIGHT
TZOFFSETFROM:-0500
TZOFFSETTO:-0400
TZNAME:EDT
DTSTART:20250309T070000
END:DAYLIGHT
BEGIN:STANDARD
TZOFFSETFROM:-0400
TZOFFSETTO:-0500
TZNAME:EST
DTSTART:20251102T060000
END:STANDARD
BEGIN:DAYLIGHT
TZOFFSETFROM:-0500
TZOFFSETTO:-0400
TZNAME:EDT
DTSTART:20260308T070000
END:DAYLIGHT
BEGIN:STANDARD
TZOFFSETFROM:-0400
TZOFFSETTO:-0500
TZNAME:EST
DTSTART:20261101T060000
END:STANDARD
BEGIN:DAYLIGHT
TZOFFSETFROM:-0500
TZOFFSETTO:-0400
TZNAME:EDT
DTSTART:20270314T070000
END:DAYLIGHT
BEGIN:STANDARD
TZOFFSETFROM:-0400
TZOFFSETTO:-0500
TZNAME:EST
DTSTART:20271107T060000
END:STANDARD
END:VTIMEZONE
BEGIN:VEVENT
DTSTART;VALUE=DATE:20260301
DTEND;VALUE=DATE:20260401
DTSTAMP:20260419T155843
CREATED:20251124T015408Z
LAST-MODIFIED:20260302T065539Z
UID:3344-1772323200-1775001599@novaaggies.com
SUMMARY:1891 Founder's Day Fundraiser
DESCRIPTION:In honor of our National Holiday\, \nAggies\, we need you!! Yes You! Donate at least $18.91 (or more) to the Northern Virginia Alumni Chapter of NCA&TSU from March 1\, 2026 – March 31\, 2026. Proceeds will fund a scholarship to a deserving Aggie from within the chapter area. \n[Give Now]
URL:https://novaaggies.com/event/1891-founders-day-fundraiser
ATTACH;FMTTYPE=image/png:https://novaaggies.com/wp-content/uploads/2025/11/IMG_20260225_222630.png
END:VEVENT
END:VCALENDAR